Workbook

Sheet INFO
B9: NAVIO/VIAGEM: | C9: GREEN ITAJAI V.11
B10: ETA VIX | C10: 46312
B12: B/L | C12: CE MERCANTE | D12: POL | E12: ISPS | F12: DAMAGE FEE | G12: THC | H12: BL FEE | I12: DROP OFF FEE | J12: TOTAL | L12: PARA PAGAMENTO DAS TAXAS LOCAIS
C13: =IFERROR(VLOOKUP(B13,Planilha4!$A$200:$J$700,2,0)," ") | D13: =IFERROR(VLOOKUP(B13,Planilha4!$A$200:$J$700,3,0)," ") | E13: =IFERROR(VLOOKUP(B13,Planilha4!$A$200:$J$700,4,0)," ") | F13: =IFERROR(VLOOKUP(B13,Planilha4!$A$200:$J$700,5,0)," ") | G13: =IFERROR(VLOOKUP(B13,Planilha4!$A$200:$J$700,6,0)," ") | H13: =IFERROR(VLOOKUP(B13,Planilha4!$A$200:$J$700,7,0)," ") | I13: =IFERROR(VLOOKUP(B13,Planilha4!$A$200:$J$700,8,0)," ") | J13: =IFERROR(VLOOKUP(B13,Planilha4!$A$200:$J$700,9,0)," ") | L13: DETALHES BANCÁRIOS | AJ13: =LEFT(B13,14)
C14: =IFERROR(VLOOKUP(B14,Planilha4!$A$200:$J$700,2,0)," ") | D14: =IFERROR(VLOOKUP(B14,Planilha4!$A$200:$J$700,3,0)," ") | E14: =IFERROR(VLOOKUP(B14,Planilha4!$A$200:$J$700,4,0)," ") | F14: =IFERROR(VLOOKUP(B14,Planilha4!$A$200:$J$700,5,0)," ") | G14: =IFERROR(VLOOKUP(B14,Planilha4!$A$200:$J$700,6,0)," ") | H14: =IFERROR(VLOOKUP(B14,Planilha4!$A$200:$J$700,7,0)," ") | I14: =IFERROR(VLOOKUP(B14,Planilha4!$A$200:$J$700,8,0)," ") | J14: =IFERROR(VLOOKUP(B14,Planilha4!$A$200:$J$700,9,0)," ") | L14: TRANSHIPPING AGENCIAMENTO MARITIMO LTDA. | AJ14: =LEFT(B14,14)
C15: =IFERROR(VLOOKUP(B15,Planilha4!$A$200:$J$700,2,0)," ") | D15: =IFERROR(VLOOKUP(B15,Planilha4!$A$200:$J$700,3,0)," ") | E15: =IFERROR(VLOOKUP(B15,Planilha4!$A$200:$J$700,4,0)," ") | F15: =IFERROR(VLOOKUP(B15,Planilha4!$A$200:$J$700,5,0)," ") | G15: =IFERROR(VLOOKUP(B15,Planilha4!$A$200:$J$700,6,0)," ") | H15: =IFERROR(VLOOKUP(B15,Planilha4!$A$200:$J$700,7,0)," ") | I15: =IFERROR(VLOOKUP(B15,Planilha4!$A$200:$J$700,8,0)," ") | J15: =IFERROR(VLOOKUP(B15,Planilha4!$A$200:$J$700,9,0)," ") | L15: CNPJ 06.352.972/0001-21 | AJ15: =LEFT(B15,14)
C16: =IFERROR(VLOOKUP(B16,Planilha4!$A$200:$J$700,2,0)," ") | D16: =IFERROR(VLOOKUP(B16,Planilha4!$A$200:$J$700,3,0)," ") | E16: =IFERROR(VLOOKUP(B16,Planilha4!$A$200:$J$700,4,0)," ") | F16: =IFERROR(VLOOKUP(B16,Planilha4!$A$200:$J$700,5,0)," ") | G16: =IFERROR(VLOOKUP(B16,Planilha4!$A$200:$J$700,6,0)," ") | H16: =IFERROR(VLOOKUP(B16,Planilha4!$A$200:$J$700,7,0)," ") | I16: =IFERROR(VLOOKUP(B16,Planilha4!$A$200:$J$700,8,0)," ") | J16: =IFERROR(VLOOKUP(B16,Planilha4!$A$200:$J$700,9,0)," ") | L16: BANCO: ITAU | AJ16: =LEFT(B16,14)
C17: =IFERROR(VLOOKUP(B17,Planilha4!$A$200:$J$700,2,0)," ") | D17: =IFERROR(VLOOKUP(B17,Planilha4!$A$200:$J$700,3,0)," ") | E17: =IFERROR(VLOOKUP(B17,Planilha4!$A$200:$J$700,4,0)," ") | F17: =IFERROR(VLOOKUP(B17,Planilha4!$A$200:$J$700,5,0)," ") | G17: =IFERROR(VLOOKUP(B17,Planilha4!$A$200:$J$700,6,0)," ") | H17: =IFERROR(VLOOKUP(B17,Planilha4!$A$200:$J$700,7,0)," ") | I17: =IFERROR(VLOOKUP(B17,Planilha4!$A$200:$J$700,8,0)," ") | J17: =IFERROR(VLOOKUP(B17,Planilha4!$A$200:$J$700,9,0)," ") | L17: AGÊNCIA: 0870 - PRAIA DO CANTO | AJ17: =LEFT(B17,14)
C18: =IFERROR(VLOOKUP(B18,Planilha4!$A$200:$J$700,2,0)," ") | D18: =IFERROR(VLOOKUP(B18,Planilha4!$A$200:$J$700,3,0)," ") | E18: =IFERROR(VLOOKUP(B18,Planilha4!$A$200:$J$700,4,0)," ") | F18: =IFERROR(VLOOKUP(B18,Planilha4!$A$200:$J$700,5,0)," ") | G18: =IFERROR(VLOOKUP(B18,Planilha4!$A$200:$J$700,6,0)," ") | H18: =IFERROR(VLOOKUP(B18,Planilha4!$A$200:$J$700,7,0)," ") | I18: =IFERROR(VLOOKUP(B18,Planilha4!$A$200:$J$700,8,0)," ") | J18: =IFERROR(VLOOKUP(B18,Planilha4!$A$200:$J$700,9,0)," ") | L18: CONTA CORRENTE 37293-5 | AJ18: =LEFT(B18,14)
C19: =IFERROR(VLOOKUP(B19,Planilha4!$A$200:$J$700,2,0)," ") | D19: =IFERROR(VLOOKUP(B19,Planilha4!$A$200:$J$700,3,0)," ") | E19: =IFERROR(VLOOKUP(B19,Planilha4!$A$200:$J$700,4,0)," ") | F19: =IFERROR(VLOOKUP(B19,Planilha4!$A$200:$J$700,5,0)," ") | G19: =IFERROR(VLOOKUP(B19,Planilha4!$A$200:$J$700,6,0)," ") | H19: =IFERROR(VLOOKUP(B19,Planilha4!$A$200:$J$700,7,0)," ") | I19: =IFERROR(VLOOKUP(B19,Planilha4!$A$200:$J$700,8,0)," ") | J19: =IFERROR(VLOOKUP(B19,Planilha4!$A$200:$J$700,9,0)," ") | M19: TOTAL DEVIDO: | N19: =SUM(J13:J150) -> 0 | AJ19: =LEFT(B19,14)
C20: =IFERROR(VLOOKUP(B20,Planilha4!$A$200:$J$700,2,0)," ") | D20: =IFERROR(VLOOKUP(B20,Planilha4!$A$200:$J$700,3,0)," ") | E20: =IFERROR(VLOOKUP(B20,Planilha4!$A$200:$J$700,4,0)," ") | F20: =IFERROR(VLOOKUP(B20,Planilha4!$A$200:$J$700,5,0)," ") | G20: =IFERROR(VLOOKUP(B20,Planilha4!$A$200:$J$700,6,0)," ") | H20: =IFERROR(VLOOKUP(B20,Planilha4!$A$200:$J$700,7,0)," ") | I20: =IFERROR(VLOOKUP(B20,Planilha4!$A$200:$J$700,8,0)," ") | J20: =IFERROR(VLOOKUP(B20,Planilha4!$A$200:$J$700,9,0)," ") | AJ20: =LEFT(B20,14)
C21: =IFERROR(VLOOKUP(B21,Planilha4!$A$200:$J$700,2,0)," ") | D21: =IFERROR(VLOOKUP(B21,Planilha4!$A$200:$J$700,3,0)," ") | E21: =IFERROR(VLOOKUP(B21,Planilha4!$A$200:$J$700,4,0)," ") | F21: =IFERROR(VLOOKUP(B21,Planilha4!$A$200:$J$700,5,0)," ") | G21: =IFERROR(VLOOKUP(B21,Planilha4!$A$200:$J$700,6,0)," ") | H21: =IFERROR(VLOOKUP(B21,Planilha4!$A$200:$J$700,7,0)," ") | I21: =IFERROR(VLOOKUP(B21,Planilha4!$A$200:$J$700,8,0)," ") | J21: =IFERROR(VLOOKUP(B21,Planilha4!$A$200:$J$700,9,0)," ") | L21: VITÓRIA | AJ21: =LEFT(B21,14)
C22: =IFERROR(VLOOKUP(B22,Planilha4!$A$200:$J$700,2,0)," ") | D22: =IFERROR(VLOOKUP(B22,Planilha4!$A$200:$J$700,3,0)," ") | E22: =IFERROR(VLOOKUP(B22,Planilha4!$A$200:$J$700,4,0)," ") | F22: =IFERROR(VLOOKUP(B22,Planilha4!$A$200:$J$700,5,0)," ") | G22: =IFERROR(VLOOKUP(B22,Planilha4!$A$200:$J$700,6,0)," ") | H22: =IFERROR(VLOOKUP(B22,Planilha4!$A$200:$J$700,7,0)," ") | I22: =IFERROR(VLOOKUP(B22,Planilha4!$A$200:$J$700,8,0)," ") | J22: =IFERROR(VLOOKUP(B22,Planilha4!$A$200:$J$700,9,0)," ") | L22: TAXAS | M22: VALOR | N22: APLICABILIDADE | AJ22: =LEFT(B22,14)
C23: =IFERROR(VLOOKUP(B23,Planilha4!$A$200:$J$700,2,0)," ") | D23: =IFERROR(VLOOKUP(B23,Planilha4!$A$200:$J$700,3,0)," ") | E23: =IFERROR(VLOOKUP(B23,Planilha4!$A$200:$J$700,4,0)," ") | F23: =IFERROR(VLOOKUP(B23,Planilha4!$A$200:$J$700,5,0)," ") | G23: =IFERROR(VLOOKUP(B23,Planilha4!$A$200:$J$700,6,0)," ") | H23: =IFERROR(VLOOKUP(B23,Planilha4!$A$200:$J$700,7,0)," ") | I23: =IFERROR(VLOOKUP(B23,Planilha4!$A$200:$J$700,8,0)," ") | J23: =IFERROR(VLOOKUP(B23,Planilha4!$A$200:$J$700,9,0)," ") | L23: THD | M23: 1420 | N23: Container | AJ23: =LEFT(B23,14)
C24: =IFERROR(VLOOKUP(B24,Planilha4!$A$200:$J$700,2,0)," ") | D24: =IFERROR(VLOOKUP(B24,Planilha4!$A$200:$J$700,3,0)," ") | E24: =IFERROR(VLOOKUP(B24,Planilha4!$A$200:$J$700,4,0)," ") | F24: =IFERROR(VLOOKUP(B24,Planilha4!$A$200:$J$700,5,0)," ") | G24: =IFERROR(VLOOKUP(B24,Planilha4!$A$200:$J$700,6,0)," ") | H24: =IFERROR(VLOOKUP(B24,Planilha4!$A$200:$J$700,7,0)," ") | I24: =IFERROR(VLOOKUP(B24,Planilha4!$A$200:$J$700,8,0)," ") | J24: =IFERROR(VLOOKUP(B24,Planilha4!$A$200:$J$700,9,0)," ") | L24: ISPS | M24: 115 | N24: Container | AJ24: =LEFT(B24,14)
C25: =IFERROR(VLOOKUP(B25,Planilha4!$A$200:$J$700,2,0)," ") | D25: =IFERROR(VLOOKUP(B25,Planilha4!$A$200:$J$700,3,0)," ") | E25: =IFERROR(VLOOKUP(B25,Planilha4!$A$200:$J$700,4,0)," ") | F25: =IFERROR(VLOOKUP(B25,Planilha4!$A$200:$J$700,5,0)," ") | G25: =IFERROR(VLOOKUP(B25,Planilha4!$A$200:$J$700,6,0)," ") | H25: =IFERROR(VLOOKUP(B25,Planilha4!$A$200:$J$700,7,0)," ") | I25: =IFERROR(VLOOKUP(B25,Planilha4!$A$200:$J$700,8,0)," ") | J25: =IFERROR(VLOOKUP(B25,Planilha4!$A$200:$J$700,9,0)," ") | L25: B/L Fee | M25: 600 | N25: B/L | AJ25: =LEFT(B25,14)
C26: =IFERROR(VLOOKUP(B26,Planilha4!$A$200:$J$700,2,0)," ") | D26: =IFERROR(VLOOKUP(B26,Planilha4!$A$200:$J$700,3,0)," ") | E26: =IFERROR(VLOOKUP(B26,Planilha4!$A$200:$J$700,4,0)," ") | F26: =IFERROR(VLOOKUP(B26,Planilha4!$A$200:$J$700,5,0)," ") | G26: =IFERROR(VLOOKUP(B26,Planilha4!$A$200:$J$700,6,0)," ") | H26: =IFERROR(VLOOKUP(B26,Planilha4!$A$200:$J$700,7,0)," ") | I26: =IFERROR(VLOOKUP(B26,Planilha4!$A$200:$J$700,8,0)," ") | J26: =IFERROR(VLOOKUP(B26,Planilha4!$A$200:$J$700,9,0)," ") | L26: Damage Protection Fee | M26: 185 | N26: Container | AJ26: =LEFT(B26,14)
C27: =IFERROR(VLOOKUP(B27,Planilha4!$A$200:$J$700,2,0)," ") | D27: =IFERROR(VLOOKUP(B27,Planilha4!$A$200:$J$700,3,0)," ") | E27: =IFERROR(VLOOKUP(B27,Planilha4!$A$200:$J$700,4,0)," ") | F27: =IFERROR(VLOOKUP(B27,Planilha4!$A$200:$J$700,5,0)," ") | G27: =IFERROR(VLOOKUP(B27,Planilha4!$A$200:$J$700,6,0)," ") | H27: =IFERROR(VLOOKUP(B27,Planilha4!$A$200:$J$700,7,0)," ") | I27: =IFERROR(VLOOKUP(B27,Planilha4!$A$200:$J$700,8,0)," ") | J27: =IFERROR(VLOOKUP(B27,Planilha4!$A$200:$J$700,9,0)," ") | L27: Drop Off Fee | M27: 150 | N27: Container | AJ27: =LEFT(B27,14)
C28: =IFERROR(VLOOKUP(B28,Planilha4!$A$200:$J$700,2,0)," ") | D28: =IFERROR(VLOOKUP(B28,Planilha4!$A$200:$J$700,3,0)," ") | E28: =IFERROR(VLOOKUP(B28,Planilha4!$A$200:$J$700,4,0)," ") | F28: =IFERROR(VLOOKUP(B28,Planilha4!$A$200:$J$700,5,0)," ") | G28: =IFERROR(VLOOKUP(B28,Planilha4!$A$200:$J$700,6,0)," ") | H28: =IFERROR(VLOOKUP(B28,Planilha4!$A$200:$J$700,7,0)," ") | I28: =IFERROR(VLOOKUP(B28,Planilha4!$A$200:$J$700,8,0)," ") | J28: =IFERROR(VLOOKUP(B28,Planilha4!$A$200:$J$700,9,0)," ") | AJ28: =LEFT(B28,14)
C29: =IFERROR(VLOOKUP(B29,Planilha4!$A$200:$J$700,2,0)," ") | D29: =IFERROR(VLOOKUP(B29,Planilha4!$A$200:$J$700,3,0)," ") | E29: =IFERROR(VLOOKUP(B29,Planilha4!$A$200:$J$700,4,0)," ") | F29: =IFERROR(VLOOKUP(B29,Planilha4!$A$200:$J$700,5,0)," ") | G29: =IFERROR(VLOOKUP(B29,Planilha4!$A$200:$J$700,6,0)," ") | H29: =IFERROR(VLOOKUP(B29,Planilha4!$A$200:$J$700,7,0)," ") | I29: =IFERROR(VLOOKUP(B29,Planilha4!$A$200:$J$700,8,0)," ") | J29: =IFERROR(VLOOKUP(B29,Planilha4!$A$200:$J$700,9,0)," ") | L29: OTHER CHARGES | AJ29: =LEFT(B29,14)
C30: =IFERROR(VLOOKUP(B30,Planilha4!$A$200:$J$700,2,0)," ") | D30: =IFERROR(VLOOKUP(B30,Planilha4!$A$200:$J$700,3,0)," ") | E30: =IFERROR(VLOOKUP(B30,Planilha4!$A$200:$J$700,4,0)," ") | F30: =IFERROR(VLOOKUP(B30,Planilha4!$A$200:$J$700,5,0)," ") | G30: =IFERROR(VLOOKUP(B30,Planilha4!$A$200:$J$700,6,0)," ") | H30: =IFERROR(VLOOKUP(B30,Planilha4!$A$200:$J$700,7,0)," ") | I30: =IFERROR(VLOOKUP(B30,Planilha4!$A$200:$J$700,8,0)," ") | J30: =IFERROR(VLOOKUP(B30,Planilha4!$A$200:$J$700,9,0)," ") | L30: TAXAS | M30: VALOR | N30: APLICABILIDADE | AJ30: =LEFT(B30,14)
C31: =IFERROR(VLOOKUP(B31,Planilha4!$A$200:$J$700,2,0)," ") | D31: =IFERROR(VLOOKUP(B31,Planilha4!$A$200:$J$700,3,0)," ") | E31: =IFERROR(VLOOKUP(B31,Planilha4!$A$200:$J$700,4,0)," ") | F31: =IFERROR(VLOOKUP(B31,Planilha4!$A$200:$J$700,5,0)," ") | G31: =IFERROR(VLOOKUP(B31,Planilha4!$A$200:$J$700,6,0)," ") | H31: =IFERROR(VLOOKUP(B31,Planilha4!$A$200:$J$700,7,0)," ") | I31: =IFERROR(VLOOKUP(B31,Planilha4!$A$200:$J$700,8,0)," ") | J31: =IFERROR(VLOOKUP(B31,Planilha4!$A$200:$J$700,9,0)," ") | L31: B/L Reissuing | M31: 600 | N31: B/L | AJ31: =LEFT(B31,14)
C32: =IFERROR(VLOOKUP(B32,Planilha4!$A$200:$J$700,2,0)," ") | D32: =IFERROR(VLOOKUP(B32,Planilha4!$A$200:$J$700,3,0)," ") | E32: =IFERROR(VLOOKUP(B32,Planilha4!$A$200:$J$700,4,0)," ") | F32: =IFERROR(VLOOKUP(B32,Planilha4!$A$200:$J$700,5,0)," ") | G32: =IFERROR(VLOOKUP(B32,Planilha4!$A$200:$J$700,6,0)," ") | H32: =IFERROR(VLOOKUP(B32,Planilha4!$A$200:$J$700,7,0)," ") | I32: =IFERROR(VLOOKUP(B32,Planilha4!$A$200:$J$700,8,0)," ") | J32: =IFERROR(VLOOKUP(B32,Planilha4!$A$200:$J$700,9,0)," ") | L32: Correction letter | M32: 600 | N32: B/L | AJ32: =LEFT(B32,14)
C33: =IFERROR(VLOOKUP(B33,Planilha4!$A$200:$J$700,2,0)," ") | D33: =IFERROR(VLOOKUP(B33,Planilha4!$A$200:$J$700,3,0)," ") | E33: =IFERROR(VLOOKUP(B33,Planilha4!$A$200:$J$700,4,0)," ") | F33: =IFERROR(VLOOKUP(B33,Planilha4!$A$200:$J$700,5,0)," ") | G33: =IFERROR(VLOOKUP(B33,Planilha4!$A$200:$J$700,6,0)," ") | H33: =IFERROR(VLOOKUP(B33,Planilha4!$A$200:$J$700,7,0)," ") | I33: =IFERROR(VLOOKUP(B33,Planilha4!$A$200:$J$700,8,0)," ") | J33: =IFERROR(VLOOKUP(B33,Planilha4!$A$200:$J$700,9,0)," ") | L33: Late correction request | M33: 850 | N33: B/L | AJ33: =LEFT(B33,14)
C34: =IFERROR(VLOOKUP(B34,Planilha4!$A$200:$J$700,2,0)," ") | D34: =IFERROR(VLOOKUP(B34,Planilha4!$A$200:$J$700,3,0)," ") | E34: =IFERROR(VLOOKUP(B34,Planilha4!$A$200:$J$700,4,0)," ") | F34: =IFERROR(VLOOKUP(B34,Planilha4!$A$200:$J$700,5,0)," ") | G34: =IFERROR(VLOOKUP(B34,Planilha4!$A$200:$J$700,6,0)," ") | H34: =IFERROR(VLOOKUP(B34,Planilha4!$A$200:$J$700,7,0)," ") | I34: =IFERROR(VLOOKUP(B34,Planilha4!$A$200:$J$700,8,0)," ") | J34: =IFERROR(VLOOKUP(B34,Planilha4!$A$200:$J$700,9,0)," ") | AJ34: =LEFT(B34,14)
C35: =IFERROR(VLOOKUP(B35,Planilha4!$A$200:$J$700,2,0)," ") | D35: =IFERROR(VLOOKUP(B35,Planilha4!$A$200:$J$700,3,0)," ") | E35: =IFERROR(VLOOKUP(B35,Planilha4!$A$200:$J$700,4,0)," ") | F35: =IFERROR(VLOOKUP(B35,Planilha4!$A$200:$J$700,5,0)," ") | G35: =IFERROR(VLOOKUP(B35,Planilha4!$A$200:$J$700,6,0)," ") | H35: =IFERROR(VLOOKUP(B35,Planilha4!$A$200:$J$700,7,0)," ") | I35: =IFERROR(VLOOKUP(B35,Planilha4!$A$200:$J$700,8,0)," ") | J35: =IFERROR(VLOOKUP(B35,Planilha4!$A$200:$J$700,9,0)," ") | L35: * Cargas IMO possuem adicional de 50% na taxa de THD, totalizando R$ 2.130. | AJ35: =LEFT(B35,14)
C36: =IFERROR(VLOOKUP(B36,Planilha4!$A$200:$J$700,2,0)," ") | D36: =IFERROR(VLOOKUP(B36,Planilha4!$A$200:$J$700,3,0)," ") | E36: =IFERROR(VLOOKUP(B36,Planilha4!$A$200:$J$700,4,0)," ") | F36: =IFERROR(VLOOKUP(B36,Planilha4!$A$200:$J$700,5,0)," ") | G36: =IFERROR(VLOOKUP(B36,Planilha4!$A$200:$J$700,6,0)," ") | H36: =IFERROR(VLOOKUP(B36,Planilha4!$A$200:$J$700,7,0)," ") | I36: =IFERROR(VLOOKUP(B36,Planilha4!$A$200:$J$700,8,0)," ") | J36: =IFERROR(VLOOKUP(B36,Planilha4!$A$200:$J$700,9,0)," ") | L36: * Cargas OOG possuem adicional de 100% na taxa de THD, totalizando R$ 2.840. | AJ36: =LEFT(B36,14)
C37: =IFERROR(VLOOKUP(B37,Planilha4!$A$200:$J$700,2,0)," ") | D37: =IFERROR(VLOOKUP(B37,Planilha4!$A$200:$J$700,3,0)," ") | E37: =IFERROR(VLOOKUP(B37,Planilha4!$A$200:$J$700,4,0)," ") | F37: =IFERROR(VLOOKUP(B37,Planilha4!$A$200:$J$700,5,0)," ") | G37: =IFERROR(VLOOKUP(B37,Planilha4!$A$200:$J$700,6,0)," ") | H37: =IFERROR(VLOOKUP(B37,Planilha4!$A$200:$J$700,7,0)," ") | I37: =IFERROR(VLOOKUP(B37,Planilha4!$A$200:$J$700,8,0)," ") | J37: =IFERROR(VLOOKUP(B37,Planilha4!$A$200:$J$700,9,0)," ") | AJ37: =LEFT(B37,14)
C38: =IFERROR(VLOOKUP(B38,Planilha4!$A$200:$J$700,2,0)," ") | D38: =IFERROR(VLOOKUP(B38,Planilha4!$A$200:$J$700,3,0)," ") | E38: =IFERROR(VLOOKUP(B38,Planilha4!$A$200:$J$700,4,0)," ") | F38: =IFERROR(VLOOKUP(B38,Planilha4!$A$200:$J$700,5,0)," ") | G38: =IFERROR(VLOOKUP(B38,Planilha4!$A$200:$J$700,6,0)," ") | H38: =IFERROR(VLOOKUP(B38,Planilha4!$A$200:$J$700,7,0)," ") | I38: =IFERROR(VLOOKUP(B38,Planilha4!$A$200:$J$700,8,0)," ") | J38: =IFERROR(VLOOKUP(B38,Planilha4!$A$200:$J$700,9,0)," ")
C39: =IFERROR(VLOOKUP(B39,Planilha4!$A$200:$J$700,2,0)," ") | D39: =IFERROR(VLOOKUP(B39,Planilha4!$A$200:$J$700,3,0)," ") | E39: =IFERROR(VLOOKUP(B39,Planilha4!$A$200:$J$700,4,0)," ") | F39: =IFERROR(VLOOKUP(B39,Planilha4!$A$200:$J$700,5,0)," ") | G39: =IFERROR(VLOOKUP(B39,Planilha4!$A$200:$J$700,6,0)," ") | H39: =IFERROR(VLOOKUP(B39,Planilha4!$A$200:$J$700,7,0)," ") | I39: =IFERROR(VLOOKUP(B39,Planilha4!$A$200:$J$700,8,0)," ") | J39: =IFERROR(VLOOKUP(B39,Planilha4!$A$200:$J$700,9,0)," ")
C40: =IFERROR(VLOOKUP(B40,Planilha4!$A$200:$J$700,2,0)," ") | D40: =IFERROR(VLOOKUP(B40,Planilha4!$A$200:$J$700,3,0)," ") | E40: =IFERROR(VLOOKUP(B40,Planilha4!$A$200:$J$700,4,0)," ") | F40: =IFERROR(VLOOKUP(B40,Planilha4!$A$200:$J$700,5,0)," ") | G40: =IFERROR(VLOOKUP(B40,Planilha4!$A$200:$J$700,6,0)," ") | H40: =IFERROR(VLOOKUP(B40,Planilha4!$A$200:$J$700,7,0)," ") | I40: =IFERROR(VLOOKUP(B40,Planilha4!$A$200:$J$700,8,0)," ") | J40: =IFERROR(VLOOKUP(B40,Planilha4!$A$200:$J$700,9,0)," ")
C41: =IFERROR(VLOOKUP(B41,Planilha4!$A$200:$J$700,2,0)," ") | D41: =IFERROR(VLOOKUP(B41,Planilha4!$A$200:$J$700,3,0)," ") | E41: =IFERROR(VLOOKUP(B41,Planilha4!$A$200:$J$700,4,0)," ") | F41: =IFERROR(VLOOKUP(B41,Planilha4!$A$200:$J$700,5,0)," ") | G41: =IFERROR(VLOOKUP(B41,Planilha4!$A$200:$J$700,6,0)," ") | H41: =IFERROR(VLOOKUP(B41,Planilha4!$A$200:$J$700,7,0)," ") | I41: =IFERROR(VLOOKUP(B41,Planilha4!$A$200:$J$700,8,0)," ") | J41: =IFERROR(VLOOKUP(B41,Planilha4!$A$200:$J$700,9,0)," ")
C42: =IFERROR(VLOOKUP(B42,Planilha4!$A$200:$J$700,2,0)," ") | D42: =IFERROR(VLOOKUP(B42,Planilha4!$A$200:$J$700,3,0)," ") | E42: =IFERROR(VLOOKUP(B42,Planilha4!$A$200:$J$700,4,0)," ") | F42: =IFERROR(VLOOKUP(B42,Planilha4!$A$200:$J$700,5,0)," ") | G42: =IFERROR(VLOOKUP(B42,Planilha4!$A$200:$J$700,6,0)," ") | H42: =IFERROR(VLOOKUP(B42,Planilha4!$A$200:$J$700,7,0)," ") | I42: =IFERROR(VLOOKUP(B42,Planilha4!$A$200:$J$700,8,0)," ") | J42: =IFERROR(VLOOKUP(B42,Planilha4!$A$200:$J$700,9,0)," ")
C43: =IFERROR(VLOOKUP(B43,Planilha4!$A$200:$J$700,2,0)," ") | D43: =IFERROR(VLOOKUP(B43,Planilha4!$A$200:$J$700,3,0)," ") | E43: =IFERROR(VLOOKUP(B43,Planilha4!$A$200:$J$700,4,0)," ") | F43: =IFERROR(VLOOKUP(B43,Planilha4!$A$200:$J$700,5,0)," ") | G43: =IFERROR(VLOOKUP(B43,Planilha4!$A$200:$J$700,6,0)," ") | H43: =IFERROR(VLOOKUP(B43,Planilha4!$A$200:$J$700,7,0)," ") | I43: =IFERROR(VLOOKUP(B43,Planilha4!$A$200:$J$700,8,0)," ") | J43: =IFERROR(VLOOKUP(B43,Planilha4!$A$200:$J$700,9,0)," ")
C44: =IFERROR(VLOOKUP(B44,Planilha4!$A$200:$J$700,2,0)," ") | D44: =IFERROR(VLOOKUP(B44,Planilha4!$A$200:$J$700,3,0)," ") | E44: =IFERROR(VLOOKUP(B44,Planilha4!$A$200:$J$700,4,0)," ") | F44: =IFERROR(VLOOKUP(B44,Planilha4!$A$200:$J$700,5,0)," ") | G44: =IFERROR(VLOOKUP(B44,Planilha4!$A$200:$J$700,6,0)," ") | H44: =IFERROR(VLOOKUP(B44,Planilha4!$A$200:$J$700,7,0)," ") | I44: =IFERROR(VLOOKUP(B44,Planilha4!$A$200:$J$700,8,0)," ") | J44: =IFERROR(VLOOKUP(B44,Planilha4!$A$200:$J$700,9,0)," ")
C45: =IFERROR(VLOOKUP(B45,Planilha4!$A$200:$J$700,2,0)," ") | D45: =IFERROR(VLOOKUP(B45,Planilha4!$A$200:$J$700,3,0)," ") | E45: =IFERROR(VLOOKUP(B45,Planilha4!$A$200:$J$700,4,0)," ") | F45: =IFERROR(VLOOKUP(B45,Planilha4!$A$200:$J$700,5,0)," ") | G45: =IFERROR(VLOOKUP(B45,Planilha4!$A$200:$J$700,6,0)," ") | H45: =IFERROR(VLOOKUP(B45,Planilha4!$A$200:$J$700,7,0)," ") | I45: =IFERROR(VLOOKUP(B45,Planilha4!$A$200:$J$700,8,0)," ") | J45: =IFERROR(VLOOKUP(B45,Planilha4!$A$200:$J$700,9,0)," ")
C46: =IFERROR(VLOOKUP(B46,Planilha4!$A$200:$J$700,2,0)," ") | D46: =IFERROR(VLOOKUP(B46,Planilha4!$A$200:$J$700,3,0)," ") | E46: =IFERROR(VLOOKUP(B46,Planilha4!$A$200:$J$700,4,0)," ") | F46: =IFERROR(VLOOKUP(B46,Planilha4!$A$200:$J$700,5,0)," ") | G46: =IFERROR(VLOOKUP(B46,Planilha4!$A$200:$J$700,6,0)," ") | H46: =IFERROR(VLOOKUP(B46,Planilha4!$A$200:$J$700,7,0)," ") | I46: =IFERROR(VLOOKUP(B46,Planilha4!$A$200:$J$700,8,0)," ") | J46: =IFERROR(VLOOKUP(B46,Planilha4!$A$200:$J$700,9,0)," ")
C47: =IFERROR(VLOOKUP(B47,Planilha4!$A$200:$J$700,2,0)," ") | D47: =IFERROR(VLOOKUP(B47,Planilha4!$A$200:$J$700,3,0)," ") | E47: =IFERROR(VLOOKUP(B47,Planilha4!$A$200:$J$700,4,0)," ") | F47: =IFERROR(VLOOKUP(B47,Planilha4!$A$200:$J$700,5,0)," ") | G47: =IFERROR(VLOOKUP(B47,Planilha4!$A$200:$J$700,6,0)," ") | H47: =IFERROR(VLOOKUP(B47,Planilha4!$A$200:$J$700,7,0)," ") | I47: =IFERROR(VLOOKUP(B47,Planilha4!$A$200:$J$700,8,0)," ") | J47: =IFERROR(VLOOKUP(B47,Planilha4!$A$200:$J$700,9,0)," ")
C48: =IFERROR(VLOOKUP(B48,Planilha4!$A$200:$J$700,2,0)," ") | D48: =IFERROR(VLOOKUP(B48,Planilha4!$A$200:$J$700,3,0)," ") | E48: =IFERROR(VLOOKUP(B48,Planilha4!$A$200:$J$700,4,0)," ") | F48: =IFERROR(VLOOKUP(B48,Planilha4!$A$200:$J$700,5,0)," ") | G48: =IFERROR(VLOOKUP(B48,Planilha4!$A$200:$J$700,6,0)," ") | H48: =IFERROR(VLOOKUP(B48,Planilha4!$A$200:$J$700,7,0)," ") | I48: =IFERROR(VLOOKUP(B48,Planilha4!$A$200:$J$700,8,0)," ") | J48: =IFERROR(VLOOKUP(B48,Planilha4!$A$200:$J$700,9,0)," ")
C49: =IFERROR(VLOOKUP(B49,Planilha4!$A$200:$J$700,2,0)," ") | D49: =IFERROR(VLOOKUP(B49,Planilha4!$A$200:$J$700,3,0)," ") | E49: =IFERROR(VLOOKUP(B49,Planilha4!$A$200:$J$700,4,0)," ") | F49: =IFERROR(VLOOKUP(B49,Planilha4!$A$200:$J$700,5,0)," ") | G49: =IFERROR(VLOOKUP(B49,Planilha4!$A$200:$J$700,6,0)," ") | H49: =IFERROR(VLOOKUP(B49,Planilha4!$A$200:$J$700,7,0)," ") | I49: =IFERROR(VLOOKUP(B49,Planilha4!$A$200:$J$700,8,0)," ") | J49: =IFERROR(VLOOKUP(B49,Planilha4!$A$200:$J$700,9,0)," ")
... C98: =IFERROR(VLOOKUP(B98,Planilha4!$A$200:$J$700,2,0)," ") | D98: =IFERROR(VLOOKUP(B98,Planilha4!$A$200:$J$700,3,0)," ") | E98: =IFERROR(VLOOKUP(B98,Planilha4!$A$200:$J$700,4,0)," ") | F98: =IFERROR(VLOOKUP(B98,Planilha4!$A$200:$J$700,5,0)," ") | G98: =IFERROR(VLOOKUP(B98,Planilha4!$A$200:$J$700,6,0)," ") | H98: =IFERROR(VLOOKUP(B98,Planilha4!$A$200:$J$700,7,0)," ") | I98: =IFERROR(VLOOKUP(B98,Planilha4!$A$200:$J$700,8,0)," ") | J98: =IFERROR(VLOOKUP(B98,Planilha4!$A$200:$J$700,9,0)," ")

Sheet Planilha4
A200: B/L | B200: CE Mercante | C200: POL | D200: ISPS | E200: Damage Fee | F200: THC | G200: BL Fee | H200: Drop Off Fee | I200: TOTAL
A201: CSC45160N08Q00 | B201: 122605333632431 | C201: NANSHA | D201: 115 | E201: 185 | F201: 2130 | G201: 600 | H201: 150 | I201: 3180
A202: CSC45160N08R00 | B202: 122605333632512 | C202: NANSHA | D202: 115 | E202: 185 | F202: 2130 | G202: 600 | H202: 150 | I202: 3180
A203: CSC45160N08S00 | B203: 122605333632601 | C203: NANSHA | D203: 115 | E203: 185 | F203: 2130 | G203: 600 | H203: 150 | I203: 3180
A204: CSC45300C02M00 | B204: 122605333632784 | C204: NANSHA | D204: 115 | E204: 185 | F204: 1420 | G204: 600 | H204: 150 | I204: 2470
A205: CSC45300C02N00 | B205: 122605333632865 | C205: NANSHA | D205: 115 | E205: 185 | F205: 1420 | G205: 600 | H205: 150 | I205: 2470
A206: CSC45300C05J00 | B206: 122605333632946 | C206: NANSHA | D206: 115 | E206: 185 | F206: 1420 | G206: 600 | H206: 150 | I206: 2470
A207: CSC45300C06U00 | B207: 122605333633080 | C207: NANSHA | D207: 115 | E207: 185 | F207: 1420 | G207: 600 | H207: 150 | I207: 2470
A208: CSC45300C06W00 | B208: 122605333633160 | C208: NANSHA | D208: 115 | E208: 185 | F208: 1420 | G208: 600 | H208: 150 | I208: 2470
A209: CSC45300C08M00 | B209: 122605333633241 | C209: NANSHA | D209: 115 | E209: 185 | F209: 1420 | G209: 600 | H209: 150 | I209: 2470
A210: CSC45350801N00 | B210: 122605333634990 | C210: NANSHA | D210: 460 | E210: 740 | F210: 5680 | G210: 600 | H210: 600 | I210: 8080
A211: CSC45350801P00 | B211: 122605333635023 | C211: NANSHA | D211: 460 | E211: 740 | F211: 5680 | G211: 600 | H211: 600 | I211: 8080
A212: CSC45350801Q00 | B212: 122605333635104 | C212: NANSHA | D212: 460 | E212: 740 | F212: 5680 | G212: 600 | H212: 600 | I212: 8080
... A517: CSC45320B09J00 | B517: 122605331512463 | C517: TAICANG | D517: 115 | E517: 185 | F517: 1420 | G517: 600 | H517: 150 | I517: 2470
A518: Taxas Locais | D518: 45310 | E518: 72890 | F518: 563030 | G518: 189000 | H518: 59100 | I518: 653610
